1.693333333000
0.000000000000
0.000000000000
-1.693333333000
335295.4467
5128970.3530
