1.693333333000
0.000000000000
0.000000000000
-1.693333333000
334118.2467
5127570.1530
