1.693333333000
0.000000000000
0.000000000000
-1.693333333000
342727.0467
5128744.5530
